BEGIN:VCALENDAR
VERSION:2.0
METHOD:PUBLISH
PRODID:-//imacoda.com//SPD-Web-O-Mat//EN
CALSCALE:GREGORIAN
BEGIN:VTIMEZONE
TZID:Europe/Berlin
BEGIN:DAYLIGHT
TZOFFSETFROM:+0100
RRULE:FREQ=YEARLY;BYMONTH=3;BYDAY=-1SU
DTSTART:19810329T020000
TZNAME:MESZ
TZOFFSETTO:+0200
END:DAYLIGHT
BEGIN:STANDARD
TZOFFSETFROM:+0200
RRULE:FREQ=YEARLY;BYMONTH=10;BYDAY=-1SU
DTSTART:19961027T030000
TZNAME:MEZ
TZOFFSETTO:+0100
END:STANDARD
END:VTIMEZONE
BEGIN:VEVENT
UID:20251203T150602Z-00001151710-LULU@www.bayernspd.de
CREATED:20251203T150602Z
LAST-MODIFIED:20251208T192916Z
DTSTAMP:20251208T192916Z
TRANSP:TRANSPARENT
DTSTART;TZID=Europe/Berlin:20251213T110000
DTEND;TZID=Europe/Berlin:20251213T150000
SUMMARY:SPD vor Ort! Stadtteiltermin mit Foodtruck am Max-Höfler-Platz
LOCATION:Max-Höfler-Platz (beim Bullenbrunnen)
DESCRIPTION:Termin im Web (SPD Bad Tölz):\nhttps://spd-badtoelz.de/termi
 ne/?id=1151710
END:VEVENT
END:VCALENDAR
